BEGIN:VCALENDAR
VERSION:2.0
PRODID:-//eventon.com NONSGML v1.0//EN
CALSCALE:GREGORIAN
METHOD:PUBLISH
BEGIN:VEVENT
UID:69e7831cb9d33
DTSTAMP:20260421T140100Z
DTSTART:20260919T060000Z
DTEND:20260919T100000Z
LOCATION:Gemeinschaftsschiessanlage Hochwald Ziegelscheuer 2
SUMMARY:Übungsschiessen
DESCRIPTION:\nhttps://www.jvdt.ch/events/uebungsschiessen-19/
URL:https://www.jvdt.ch/events/uebungsschiessen-19/
END:VEVENT
END:VCALENDAR