BEGIN:VCALENDAR
VERSION:2.0
PRODID:-//eventon.com NONSGML v1.0//EN
CALSCALE:GREGORIAN
METHOD:PUBLISH
BEGIN:VEVENT
UID:69e9f5d6af114
DTSTAMP:20260423T103502Z
DTSTART:20260821T160000Z
DTEND:20260821T180000Z
LOCATION:Gemeinschaftsschiessanlage Hochwald Ziegelscheuer 2
SUMMARY:Übungsschiessen
DESCRIPTION:\nhttps://www.jvdt.ch/events/uebungsschiessen-18/
URL:https://www.jvdt.ch/events/uebungsschiessen-18/
END:VEVENT
END:VCALENDAR