BEGIN:VCALENDAR
VERSION:2.0
PRODID:-//eventon.com NONSGML v1.0//EN
CALSCALE:GREGORIAN
METHOD:PUBLISH
BEGIN:VEVENT
UID:69e9f5d182ef0
DTSTAMP:20260423T103457Z
DTSTART:20260620T060000Z
DTEND:20260620T100000Z
LOCATION:Gemeinschaftsschiessanlage Hochwald Ziegelscheuer 2
SUMMARY:Revierwettkampf JVDT
DESCRIPTION:\nhttps://www.jvdt.ch/events/uebungsschiessen-17/
URL:https://www.jvdt.ch/events/uebungsschiessen-17/
END:VEVENT
END:VCALENDAR