BEGIN:VCALENDAR
VERSION:2.0
PRODID:-//eventon.com NONSGML v1.0//EN
CALSCALE:GREGORIAN
METHOD:PUBLISH
BEGIN:VEVENT
UID:69e9f9684c257
DTSTAMP:20260423T105016Z
DTSTART:20260619T160000Z
DTEND:20260619T180000Z
LOCATION:Gemeinschaftsschiessanlage Hochwald Ziegelscheuer 2
SUMMARY:Revierwettkampf JVDT
DESCRIPTION:\nhttps://www.jvdt.ch/events/uebungsschiessen-16/
URL:https://www.jvdt.ch/events/uebungsschiessen-16/
END:VEVENT
END:VCALENDAR