BEGIN:VCALENDAR
VERSION:2.0
PRODID:-//eventon.com NONSGML v1.0//EN
CALSCALE:GREGORIAN
METHOD:PUBLISH
BEGIN:VEVENT
UID:69e9f72b3906d
DTSTAMP:20260423T104043Z
DTSTART:20260522T160000Z
DTEND:20260522T180000Z
LOCATION:Gemeinschaftsschiessanlage Hochwald Ziegelscheuer 2
SUMMARY:Übungsschiessen
DESCRIPTION:\nhttps://www.jvdt.ch/events/uebungsschiessen-15/
URL:https://www.jvdt.ch/events/uebungsschiessen-15/
END:VEVENT
END:VCALENDAR