BEGIN:VCALENDAR
VERSION:2.0
PRODID:-//eventon.com NONSGML v1.0//EN
CALSCALE:GREGORIAN
METHOD:PUBLISH
BEGIN:VEVENT
UID:69e9e2ac986b2
DTSTAMP:20260423T091316Z
DTSTART:20260508T160000Z
DTEND:20260508T180000Z
LOCATION:Gemeinschaftsschiessanlage Hochwald Ziegelscheuer 2
SUMMARY:Übungsschiessen
DESCRIPTION:\nhttps://www.jvdt.ch/events/uebungsschiessen-14/
URL:https://www.jvdt.ch/events/uebungsschiessen-14/
END:VEVENT
END:VCALENDAR