BEGIN:VCALENDAR
VERSION:2.0
PRODID:-//eventon.com NONSGML v1.0//EN
CALSCALE:GREGORIAN
METHOD:PUBLISH
BEGIN:VEVENT
UID:69e9f833e71e1
DTSTAMP:20260423T104507Z
DTSTART:20260425T060000Z
DTEND:20260425T100000Z
LOCATION:Gemeinschaftsschiessanlage Hochwald Ziegelscheuer 2
SUMMARY:Übungsschiessen
DESCRIPTION:\nhttps://www.jvdt.ch/events/uebungsschiessen-12/
URL:https://www.jvdt.ch/events/uebungsschiessen-12/
END:VEVENT
END:VCALENDAR