BEGIN:VCALENDAR
VERSION:2.0
PRODID:-//eventon.com NONSGML v1.0//EN
CALSCALE:GREGORIAN
METHOD:PUBLISH
BEGIN:VEVENT
UID:69e9df3af31bf
DTSTAMP:20260423T085834Z
DTSTART:20260418T060000Z
DTEND:20260418T100000Z
LOCATION:Gemeinschaftsschiessanlage Hochwald Ziegelscheuer 2
SUMMARY:Eröffnungsschiessen
DESCRIPTION:\nhttps://www.jvdt.ch/events/eroeffnungsschiessen-2/
URL:https://www.jvdt.ch/events/eroeffnungsschiessen-2/
END:VEVENT
END:VCALENDAR