BEGIN:VCALENDAR
VERSION:2.0
PRODID:-//eventon.com NONSGML v1.0//EN
CALSCALE:GREGORIAN
METHOD:PUBLISH
BEGIN:VEVENT
UID:69ea0caee7090
DTSTAMP:20260423T121230Z
DTSTART:20260320
DTEND:20260321
LOCATION:Gemeindezentrum Dorfstrasse 35
SUMMARY:GV RevierJagd Solothurn
DESCRIPTION:\nhttps://www.jvdt.ch/events/gv-revierjagd-solothurn-3/
URL:https://www.jvdt.ch/events/gv-revierjagd-solothurn-3/
END:VEVENT
END:VCALENDAR